BEGIN:VCALENDAR
VERSION:2.0
PRODID:-//Platform Zero Incidents - ECPv6.15.20//NONSGML v1.0//EN
CALSCALE:GREGORIAN
METHOD:PUBLISH
X-WR-CALNAME:Platform Zero Incidents
X-ORIGINAL-URL:https://platformzeroincidents.com
X-WR-CALDESC:Evenementen voor Platform Zero Incidents
REFRESH-INTERVAL;VALUE=DURATION:PT1H
X-Robots-Tag:noindex
X-PUBLISHED-TTL:PT1H
BEGIN:VTIMEZONE
TZID:Europe/Paris
BEGIN:DAYLIGHT
TZOFFSETFROM:+0100
TZOFFSETTO:+0200
TZNAME:CEST
DTSTART:20240331T010000
END:DAYLIGHT
BEGIN:STANDARD
TZOFFSETFROM:+0200
TZOFFSETTO:+0100
TZNAME:CET
DTSTART:20241027T010000
END:STANDARD
BEGIN:DAYLIGHT
TZOFFSETFROM:+0100
TZOFFSETTO:+0200
TZNAME:CEST
DTSTART:20250330T010000
END:DAYLIGHT
BEGIN:STANDARD
TZOFFSETFROM:+0200
TZOFFSETTO:+0100
TZNAME:CET
DTSTART:20251026T010000
END:STANDARD
BEGIN:DAYLIGHT
TZOFFSETFROM:+0100
TZOFFSETTO:+0200
TZNAME:CEST
DTSTART:20260329T010000
END:DAYLIGHT
BEGIN:STANDARD
TZOFFSETFROM:+0200
TZOFFSETTO:+0100
TZNAME:CET
DTSTART:20261025T010000
END:STANDARD
END:VTIMEZONE
BEGIN:VEVENT
DTSTART;TZID=Europe/Paris:20250521T090000
DTEND;TZID=Europe/Paris:20250521T130000
DTSTAMP:20260419T194541
CREATED:20250331T091601Z
LAST-MODIFIED:20250514T105545Z
UID:9412-1747818000-1747832400@platformzeroincidents.com
SUMMARY:2025 Stakeholder Conference
DESCRIPTION:Program \n09:00 – 09:30h Registration \n09:30 – 12.00h Main program \n\nUpdate PZI activities by Kristel Reiling-Steeds – Program Manager PZI\nOCIMF’s vision on innovation in the industry by Ton Mol – Barge Adviser OCIMF\nLearning from Other Industries by Lianne van der Veen – Investigator Onderzoeksraad voor Veiligheid (OVV)\nUnseen Dangers: Addressing Phosphine Risks by Maurits van der Linde – Policy Advisor Safety and Dangerous Goods KBN\n\n12.00 – 13.00h Lunch
URL:https://platformzeroincidents.com/event/2025-stakeholder-conference/
LOCATION:Maritime Industry Gorinchem\, Franklinweg 2\, Gorinchem\, Zuid-Holland\, 4207 HZ\, Nederland
ORGANIZER;CN="Platform Zero Incidents":MAILTO:info@platformzeroincidents.com
END:VEVENT
END:VCALENDAR