BEGIN:VCALENDAR
VERSION:2.0
PRODID:-//Platform Zero Incidents - ECPv6.15.20//NONSGML v1.0//EN
CALSCALE:GREGORIAN
METHOD:PUBLISH
X-WR-CALNAME:Platform Zero Incidents
X-ORIGINAL-URL:https://platformzeroincidents.com
X-WR-CALDESC:Evenementen voor Platform Zero Incidents
REFRESH-INTERVAL;VALUE=DURATION:PT1H
X-Robots-Tag:noindex
X-PUBLISHED-TTL:PT1H
BEGIN:VTIMEZONE
TZID:Europe/Paris
BEGIN:DAYLIGHT
TZOFFSETFROM:+0100
TZOFFSETTO:+0200
TZNAME:CEST
DTSTART:20240331T010000
END:DAYLIGHT
BEGIN:STANDARD
TZOFFSETFROM:+0200
TZOFFSETTO:+0100
TZNAME:CET
DTSTART:20241027T010000
END:STANDARD
BEGIN:DAYLIGHT
TZOFFSETFROM:+0100
TZOFFSETTO:+0200
TZNAME:CEST
DTSTART:20250330T010000
END:DAYLIGHT
BEGIN:STANDARD
TZOFFSETFROM:+0200
TZOFFSETTO:+0100
TZNAME:CET
DTSTART:20251026T010000
END:STANDARD
BEGIN:DAYLIGHT
TZOFFSETFROM:+0100
TZOFFSETTO:+0200
TZNAME:CEST
DTSTART:20260329T010000
END:DAYLIGHT
BEGIN:STANDARD
TZOFFSETFROM:+0200
TZOFFSETTO:+0100
TZNAME:CET
DTSTART:20261025T010000
END:STANDARD
BEGIN:DAYLIGHT
TZOFFSETFROM:+0100
TZOFFSETTO:+0200
TZNAME:CEST
DTSTART:20270328T010000
END:DAYLIGHT
BEGIN:STANDARD
TZOFFSETFROM:+0200
TZOFFSETTO:+0100
TZNAME:CET
DTSTART:20271031T010000
END:STANDARD
END:VTIMEZONE
BEGIN:VEVENT
DTSTART;TZID=Europe/Paris:20251120T170000
DTEND;TZID=Europe/Paris:20251120T220000
DTSTAMP:20260423T093433
CREATED:20250915T140455Z
LAST-MODIFIED:20251002T113910Z
UID:9850-1763658000-1763676000@platformzeroincidents.com
SUMMARY:10 Years of PZI – Shaping the Future Together
DESCRIPTION:On Thursday\, November 20th\, 2025\, we warmly invite our members and special guests to join us at Van der Valk Eindhoven-Best for an evening of celebration. \nTogether we will look back with pride on a decade of PZI\, share inspiring conversations\, and enjoy a festive walking dinner accompanied by live entertainment. Most of all\, we will raise our glasses to the future ahead. \nPractical Information \n📅 Date: Thursday\, November 20th\, 2025\n🕔 Time: 17:00 – 22:00h📍 Location: Van der Valk Eindhoven-Best\n👔 Dresscode: Cocktail \nEvening Program\n🕔 17:00 – Arrival & Welcome Drink🍴 18:00 – Festive Walking Dinner with Live Entertainment🥂 19:30 – Toast to 10 Years of PZI & Future Outlook✨ 22:00 – End of Program \nStay Overnight\nWould you like to extend the evening? Guests benefit from a special hotel discount at Van der Valk. Simply click on this link and use the code Jubileum when booking.
URL:https://platformzeroincidents.com/event/10-years-of-pzi-shaping-the-future-together/
LOCATION:Skybar Van der Valk Eindhoven-Best\, Eindhovenseweg Zuid 144\, Best\, 5683 PX\, Netherlands
ORGANIZER;CN="Platform Zero Incidents":MAILTO:info@platformzeroincidents.com
END:VEVENT
BEGIN:VEVENT
DTSTART;TZID=Europe/Paris:20260603T090000
DTEND;TZID=Europe/Paris:20260603T130000
DTSTAMP:20260423T093433
CREATED:20260324T103551Z
LAST-MODIFIED:20260324T105338Z
UID:10183-1780477200-1780491600@platformzeroincidents.com
SUMMARY:2026 Stakeholder Conference
DESCRIPTION:Hear about the statistics of 2025 and all activities of PZI. Get inspired by the speakers who will share on current developments. \nProgram \n09:00 – 09:30h Registration \n09:30 – 12.00h Main program \n\nUpdate PZI activities by Wilma van Sandijk – Program Management PZI\nMartijn Schipper on insights from research into TGAIN – Marin\nProf. dr. Ira Helsloot on proportionate safety policy in the current industry developments – Crisislab\n\n12.00 – 13.00h Lunch
URL:https://platformzeroincidents.com/event/stakeholder-conference-2026/
LOCATION:Maritime Industry Gorinchem\, Franklinweg 2\, Gorinchem\, Zuid-Holland\, 4207 HZ\, Nederland
ATTACH;FMTTYPE=image/jpeg:https://platformzeroincidents.com/wp-content/uploads/2024/06/Overzicht-e1774348484552.jpg
ORGANIZER;CN="Platform Zero Incidents":MAILTO:info@platformzeroincidents.com
END:VEVENT
END:VCALENDAR